BEGIN:VCALENDAR
VERSION:2.0
PRODID:-//SOCALPAR - ECPv6.15.20//NONSGML v1.0//EN
CALSCALE:GREGORIAN
METHOD:PUBLISH
X-ORIGINAL-URL:https://socalpar.com
X-WR-CALDESC:Eventos para SOCALPAR
REFRESH-INTERVAL;VALUE=DURATION:PT1H
X-Robots-Tag:noindex
X-PUBLISHED-TTL:PT1H
BEGIN:VTIMEZONE
TZID:Europe/Madrid
BEGIN:DAYLIGHT
TZOFFSETFROM:+0100
TZOFFSETTO:+0200
TZNAME:CEST
DTSTART:20240331T010000
END:DAYLIGHT
BEGIN:STANDARD
TZOFFSETFROM:+0200
TZOFFSETTO:+0100
TZNAME:CET
DTSTART:20241027T010000
END:STANDARD
BEGIN:DAYLIGHT
TZOFFSETFROM:+0100
TZOFFSETTO:+0200
TZNAME:CEST
DTSTART:20250330T010000
END:DAYLIGHT
BEGIN:STANDARD
TZOFFSETFROM:+0200
TZOFFSETTO:+0100
TZNAME:CET
DTSTART:20251026T010000
END:STANDARD
BEGIN:DAYLIGHT
TZOFFSETFROM:+0100
TZOFFSETTO:+0200
TZNAME:CEST
DTSTART:20260329T010000
END:DAYLIGHT
BEGIN:STANDARD
TZOFFSETFROM:+0200
TZOFFSETTO:+0100
TZNAME:CET
DTSTART:20261025T010000
END:STANDARD
END:VTIMEZONE
BEGIN:VEVENT
DTSTART;TZID=Europe/Madrid:20250624T053000
DTEND;TZID=Europe/Madrid:20250624T190000
DTSTAMP:20260423T193355
CREATED:20250619T144511Z
LAST-MODIFIED:20250619T144511Z
UID:7652-1750743000-1750791600@socalpar.com
SUMMARY:Acto de Bienvenida a Residentes de Neumología y Cirugía Torácica
DESCRIPTION:DESCARGA EL PROGRAMA
URL:https://socalpar.com/event/acto-de-bienvenida-a-residentes-de-neumologia-y-cirugia-toracica/
LOCATION:Hotel ELE Enara Boutique\, Calle Montero Calvo 30\, Valladolid\, Valladolid\, Spain
CATEGORIES:Actividades Socalpar,Próximos eventos
ATTACH;FMTTYPE=image/png:https://socalpar.com/wp-content/uploads/2025/06/Captura-de-pantalla-2025-06-19-a-las-16.42.14.png
ORGANIZER;CN="SOCALPAR":MAILTO:secretaria@socalpar.com
END:VEVENT
END:VCALENDAR