BEGIN:VCALENDAR
VERSION:2.0
PRODID:-//SOCALPAR - ECPv6.15.20//NONSGML v1.0//EN
CALSCALE:GREGORIAN
METHOD:PUBLISH
X-ORIGINAL-URL:https://socalpar.com
X-WR-CALDESC:Eventos para SOCALPAR
REFRESH-INTERVAL;VALUE=DURATION:PT1H
X-Robots-Tag:noindex
X-PUBLISHED-TTL:PT1H
BEGIN:VTIMEZONE
TZID:Europe/Madrid
BEGIN:DAYLIGHT
TZOFFSETFROM:+0100
TZOFFSETTO:+0200
TZNAME:CEST
DTSTART:20240331T010000
END:DAYLIGHT
BEGIN:STANDARD
TZOFFSETFROM:+0200
TZOFFSETTO:+0100
TZNAME:CET
DTSTART:20241027T010000
END:STANDARD
BEGIN:DAYLIGHT
TZOFFSETFROM:+0100
TZOFFSETTO:+0200
TZNAME:CEST
DTSTART:20250330T010000
END:DAYLIGHT
BEGIN:STANDARD
TZOFFSETFROM:+0200
TZOFFSETTO:+0100
TZNAME:CET
DTSTART:20251026T010000
END:STANDARD
BEGIN:DAYLIGHT
TZOFFSETFROM:+0100
TZOFFSETTO:+0200
TZNAME:CEST
DTSTART:20260329T010000
END:DAYLIGHT
BEGIN:STANDARD
TZOFFSETFROM:+0200
TZOFFSETTO:+0100
TZNAME:CET
DTSTART:20261025T010000
END:STANDARD
END:VTIMEZONE
BEGIN:VEVENT
DTSTART;TZID=Europe/Madrid:20250404T170000
DTEND;TZID=Europe/Madrid:20250405T133000
DTSTAMP:20260423T223046
CREATED:20250203T102557Z
LAST-MODIFIED:20250204T091431Z
UID:6917-1743786000-1743859800@socalpar.com
SUMMARY:III CURSO DE ASMA SOCALPAR
DESCRIPTION:FORMULARIO DE INSCRIPCIÓN\nNOTA:  \nLos residentes inscritos antes del día 28 de febrero tienen asegurada la plaza. \nEl resto de inscritos quedarán en lista de espera hasta dicha fecha\, en que se les darán las plazas que no hayan sido ocupadas por residentes según orden de inscripción. \nDESCARGA EL PROGRAMA\n 
URL:https://socalpar.com/event/iii-curso-de-asma-socalpar/
LOCATION:Valladolid
CATEGORIES:Actividades Socalpar,Próximos eventos
ATTACH;FMTTYPE=image/png:https://socalpar.com/wp-content/uploads/2025/02/Captura-de-pantalla-2025-02-04-a-las-10.13.11.png
ORGANIZER;CN="SOCALPAR":MAILTO:secretaria@socalpar.com
END:VEVENT
END:VCALENDAR