BEGIN:VCALENDAR
VERSION:2.0
PRODID:-//SOCALPAR - ECPv6.15.20//NONSGML v1.0//EN
CALSCALE:GREGORIAN
METHOD:PUBLISH
X-ORIGINAL-URL:https://socalpar.com
X-WR-CALDESC:Eventos para SOCALPAR
REFRESH-INTERVAL;VALUE=DURATION:PT1H
X-Robots-Tag:noindex
X-PUBLISHED-TTL:PT1H
BEGIN:VTIMEZONE
TZID:Europe/Madrid
BEGIN:DAYLIGHT
TZOFFSETFROM:+0100
TZOFFSETTO:+0200
TZNAME:CEST
DTSTART:20240331T010000
END:DAYLIGHT
BEGIN:STANDARD
TZOFFSETFROM:+0200
TZOFFSETTO:+0100
TZNAME:CET
DTSTART:20241027T010000
END:STANDARD
BEGIN:DAYLIGHT
TZOFFSETFROM:+0100
TZOFFSETTO:+0200
TZNAME:CEST
DTSTART:20250330T010000
END:DAYLIGHT
BEGIN:STANDARD
TZOFFSETFROM:+0200
TZOFFSETTO:+0100
TZNAME:CET
DTSTART:20251026T010000
END:STANDARD
BEGIN:DAYLIGHT
TZOFFSETFROM:+0100
TZOFFSETTO:+0200
TZNAME:CEST
DTSTART:20260329T010000
END:DAYLIGHT
BEGIN:STANDARD
TZOFFSETFROM:+0200
TZOFFSETTO:+0100
TZNAME:CET
DTSTART:20261025T010000
END:STANDARD
END:VTIMEZONE
BEGIN:VEVENT
DTSTART;TZID=Europe/Madrid:20250320T170000
DTEND;TZID=Europe/Madrid:20250320T203000
DTSTAMP:20260423T235315
CREATED:20250225T111238Z
LAST-MODIFIED:20250225T111334Z
UID:7050-1742490000-1742502600@socalpar.com
SUMMARY:JORNADA DE PRIMAVERA SOCALPAR 2025
DESCRIPTION:DESCARGA EL PROGRAMA
URL:https://socalpar.com/event/jornada-de-primavera-2025/
LOCATION:Hotel ELE Enara Boutique\, Calle Montero Calvo 30\, Valladolid\, Valladolid\, Spain
CATEGORIES:Actividades Socalpar,Próximos eventos
ATTACH;FMTTYPE=image/png:https://socalpar.com/wp-content/uploads/2025/02/Captura-de-pantalla-2025-02-25-a-las-12.08.27.png
ORGANIZER;CN="SOCALPAR":MAILTO:secretaria@socalpar.com
END:VEVENT
END:VCALENDAR